BEGIN:VCALENDAR
VERSION:2.0
PRODID:-//ExpressionEngine Easy iCalendar plugin//NONSGML v2.0.1//EN
X-WR-TIMEZONE:America/New_York
X-WR-CALNAME:Upcoming Auctions
BEGIN:VEVENT
UID:102561
DTSTAMP:20230612T165500
DTSTART:20230612T165500
DTEND:20230711T180000
SUMMARY:St Albans\, WV - 1948 Lincoln H-Series Beautiful Luxury Sedan
  Suicide Doors V12!
LOCATION:600 Winfield Road\, Saint Albans\, WV 25177\, US
DESCRIPTION:Absolute Online Personal Property Auction   1948 Lincoln
  H-Series Beautiful Luxury Sedan Suicide Doors V12! Single l
 ot auction! Lot will begin to close @6:00pm on Tuesday\, July
  11th\, 2023 VIN# 8H176948 Odometer shows 85\,249 Miles Color:
  Black
URL:https://www.joerpyleauctions.com/auctions/detail/bw102561
SEQUENCE:1
END:VEVENT
END:VCALENDAR