BEGIN:VCALENDAR
VERSION:2.0
PRODID:-//ExpressionEngine Easy iCalendar plugin//NONSGML v2.0.1//EN
X-WR-TIMEZONE:America/New_York
X-WR-CALNAME:Upcoming Auctions
BEGIN:VEVENT
UID:107719
DTSTAMP:20231111T110000
DTSTART:20231111T110000
DTEND:20231111T120000
SUMMARY:West Homestead\, PA – HUGE Single Owner’s Car Collection:
  Over 50 Corvettes\, Ferrari\, Lamborghini\, Schwinn Bicycles\, 
 Parts!
LOCATION:1055 Forest Ave\, West Homestead\, PA 15120\, US
DESCRIPTION:This one owner collection of mint condition Corvettes\, Lambo
 rghini\, and Ferrari Cars has been amassed and stored in this
  former Casket factory over the last 30 years. No one would 
 have suspected the treasures hidden behind these doors. We h
 ave been commissioned to sell them all to the highest bidder
 !
URL:https://www.joerpyleauctions.com/auctions/detail/bw107719
SEQUENCE:1
END:VEVENT
END:VCALENDAR