BEGIN:VCALENDAR
VERSION:2.0
PRODID:-//ExpressionEngine Easy iCalendar plugin//NONSGML v2.0.1//EN
X-WR-TIMEZONE:America/New_York
X-WR-CALNAME:Upcoming Auctions
BEGIN:VEVENT
UID:117673
DTSTAMP:20240322T132100
DTSTART:20240322T132100
DTEND:20240417T180000
SUMMARY:Weston\, WV – Lewis County BOE Surplus Equipment/Furniture
LOCATION:40 Armory Road\, Weston\, WV 26452\, US
DESCRIPTION:Lewis County Board of Education Surplus Equipment/Furniture 
 Online Only Auction Items begin to close Wednesday April 17t
 h at 6:00 PM 2 School Buses\, Jeep\, and Tractor 2010 & 2006 I
 nternational Buses 2007 Jeep Grand Cherokee Farmall Cub Trac
 tor with side mower Welder and Woodworking Equipment Large Q
 uantity of School & Office Furniture\, Pianos Communication a
 nd Audio-Visual Equipment Custodial Supplies Food Handling I
 tems and Furniture
URL:https://www.joerpyleauctions.com/auctions/detail/bw117673
SEQUENCE:1
END:VEVENT
END:VCALENDAR