BEGIN:VCALENDAR
VERSION:2.0
PRODID:-//ExpressionEngine Easy iCalendar plugin//NONSGML v2.0.1//EN
X-WR-TIMEZONE:America/New_York
X-WR-CALNAME:Upcoming Auctions
BEGIN:VEVENT
UID:124174
DTSTAMP:20240716T190200
DTSTART:20240716T190200
DTEND:20240819T180000
SUMMARY:SOLD $44\,000 - Fully Functional 2-Bay Car Wash in a Great Lo
 cation
LOCATION:20439 Buffalo Road\, Buffalo\, WV 25033\, US
DESCRIPTION:Online Commercial Real Estate Auction   Bidding begins clos
 ing Monday\, August 19th at 6:00PM   20439 Buffalo Road Buff
 alo\, WV   Fully Functional 2-Bay Car Wash in a Great Locati
 on  
URL:https://www.joerpyleauctions.com/auctions/detail/bw124174
SEQUENCE:1
END:VEVENT
END:VCALENDAR