BEGIN:VCALENDAR
VERSION:2.0
PRODID:-//ExpressionEngine Easy iCalendar plugin//NONSGML v2.0.1//EN
X-WR-TIMEZONE:America/New_York
X-WR-CALNAME:Upcoming Auctions
BEGIN:VEVENT
UID:138840
DTSTAMP:20250529T170000
DTSTART:20250529T170000
DTEND:20250529T180000
SUMMARY:SOLD $715\,000 - Huge Stone Home in the South Hills of Charle
 ston
LOCATION:1881 Loudon Heights Road\, Charleston\, WV 25314\, US
DESCRIPTION:Real Estate Auction   Thursday\, May 29th at 5:00PM Registra
 tion and Inspection Begin at 4:00PM   1881 Loudon Heights R
 oad Charleston\, WV 25314   Lovely Stone Home in the Heart o
 f South Hills Charleston
URL:https://www.joerpyleauctions.com/auctions/detail/bw138840
SEQUENCE:1
END:VEVENT
END:VCALENDAR