BEGIN:VCALENDAR
VERSION:2.0
PRODID:-//ExpressionEngine Easy iCalendar plugin//NONSGML v2.0.1//EN
X-WR-TIMEZONE:America/New_York
X-WR-CALNAME:Upcoming Auctions
BEGIN:VEVENT
UID:141208
DTSTAMP:20250627T130000
DTSTART:20250627T130000
DTEND:20250627T140000
SUMMARY:St Albans\, WV -  Red Carpet Classic Car Auction [LANE A]
LOCATION:600 Winfield Rd\, St Albans\, WV 25177\, US
DESCRIPTION:Red Carpet Classic Car Auction Over 200 Classic Cars! Two La
 nes running simultaneously! Lane B starts @ 12:45 PM
URL:https://www.joerpyleauctions.com/auctions/detail/bw141208
SEQUENCE:1
END:VEVENT
END:VCALENDAR