BEGIN:VCALENDAR
VERSION:2.0
PRODID:-//ExpressionEngine Easy iCalendar plugin//NONSGML v2.0.1//EN
X-WR-TIMEZONE:America/New_York
X-WR-CALNAME:Upcoming Auctions
BEGIN:VEVENT
UID:147849
DTSTAMP:20250906T161500
DTSTART:20250906T161500
DTEND:20251015T170000
SUMMARY:SOLD $275\,000 - Move-in Ready 3 Bedroom on 3.5 Acres in Mt M
 orris
LOCATION:455 Mt Morris Road\, Mt Morris\, PA 15349\, US
DESCRIPTION:Online Real Estate Auction   Bidding begins closing Wednesd
 ay\, October 15th at 5:00PM Preview by Appointment Only Pleas
 e call Auctioneer\, Jordan Kiger to schedule a showing (724)-
 998-5810   455 Mt Morris Road Mt Morris\, PA   Move-in Read
 y 3 Bedroom Home on 3.5 Acres in Mt Morris
URL:https://www.joerpyleauctions.com/auctions/detail/bw147849
SEQUENCE:1
END:VEVENT
END:VCALENDAR