BEGIN:VCALENDAR
VERSION:2.0
PRODID:-//ExpressionEngine Easy iCalendar plugin//NONSGML v2.0.1//EN
X-WR-TIMEZONE:America/New_York
X-WR-CALNAME:Upcoming Auctions
BEGIN:VEVENT
UID:147851
DTSTAMP:20250906T190500
DTSTART:20250906T190500
DTEND:20251015T173000
SUMMARY:SOLD $222\,750 - Campground on 11 +/- Acres with Endless Pote
 ntial in Mt. Morris
LOCATION:Mt Morris Road\, Mt Morris\, PA 15349\, US
DESCRIPTION:Online Land Auction   Bidding begins closing Wednesday\, Oct
 ober 15th at 5:30PM Preview by Appointment Only Questions? C
 all Auctioneer\, Jordan Kiger (724)-998-5810   Mt Morris Roa
 d Mt Morris\, PA   Campground on 11 +/- Acres with Endless P
 otential ***GREAT LOCATION – MINUTES TO I-79*** ***CLOSE T
 O MORGANTOWN & WAYNESBURG***
URL:https://www.joerpyleauctions.com/auctions/detail/bw147851
SEQUENCE:1
END:VEVENT
END:VCALENDAR