BEGIN:VCALENDAR
VERSION:2.0
PRODID:-//ExpressionEngine Easy iCalendar plugin//NONSGML v2.0.1//EN
X-WR-TIMEZONE:America/New_York
X-WR-CALNAME:Upcoming Auctions
BEGIN:VEVENT
UID:151813
DTSTAMP:20251216T160000
DTSTART:20251216T160000
DTEND:20251216T170000
SUMMARY:SOLD $374\,000 - Prime Downtown Charleston Commercial Buildin
 g
LOCATION:604 Virginia St. E.\, Charleston\, WV 25301\, US
DESCRIPTION:Commercial Real Estate Auction Â  Tuesday\, December 16th at 
 4:00PM Registration & Inspection begin at 3:30PM Â  604 Virg
 inia St. E. Charleston\, WV Â  Located in the heart of Charle
 ston\, this commercial property at 604 E Virginia Street offe
 rs an incredible investment opportunity in one of the cityâ€
 ™s most convenient and high-demand areas. The building is ju
 st steps from major courthouses and government offices\, maki
 ng it ideal for professional or business use. Currently rent
 ed month-to-month and generating $5\,000 per month\, this prop
 erty combines strong income potential with outstanding locat
 ion appeal.
URL:https://www.joerpyleauctions.com/auctions/detail/bw151813
SEQUENCE:1
END:VEVENT
END:VCALENDAR