BEGIN:VCALENDAR
VERSION:2.0
PRODID:-//ExpressionEngine Easy iCalendar plugin//NONSGML v2.0.1//EN
X-WR-TIMEZONE:America/New_York
X-WR-CALNAME:Upcoming Auctions
BEGIN:VEVENT
UID:152533
DTSTAMP:20251119T120000
DTSTART:20251119T120000
DTEND:20251210T180000
SUMMARY:Shinnston\, WV – VINCENT LUMBER BUSINESS LIQUIDATION\, with 
 Additions! OVER 500 LOTS!
LOCATION:347 South Pike Street\, Shinnston\, WV 26431\, US
DESCRIPTION:SHINNSTON ONLINE PERSONAL PROPERTY AUCTION LOTS BEGIN CLOSIN
 G: Wednesday\, December 10th at 6PM Vincent Lumber Business L
 iquidation With Additions! Over 500 Lots!! Trucks & Tractor
  Material Handling & Storage Hardware & Building Supplies Pa
 int & Coatings Tools & Equipment Office\, Store Fixtures & Mi
 scellaneous  
URL:https://www.joerpyleauctions.com/auctions/detail/bw152533
SEQUENCE:1
END:VEVENT
END:VCALENDAR