BEGIN:VCALENDAR
VERSION:2.0
PRODID:-//ExpressionEngine Easy iCalendar plugin//NONSGML v2.0.1//EN
X-WR-TIMEZONE:America/New_York
X-WR-CALNAME:Upcoming Auctions
BEGIN:VEVENT
UID:152686
DTSTAMP:20251123T120000
DTSTART:20251123T120000
DTEND:20251218T190000
SUMMARY:SOLD - Over 24\,500 Acres of Mineral Interests Across 14 Coun
 ties in West Virginia
LOCATION:{location}
DESCRIPTION:ONLINE MINERAL INTERESTS AUCTION   Bidding begins closing T
 hursday\, December 18th at 7:00PM   OVER 24\,500 ACRES MINERA
 L INTEREST ACROSS 14 COUNTIES     For more information or 
 to access the data room\, please call Jordan Kiger\, Salespers
 on at 724-998-5810   INCLUDING MONONGALIA\, TAYLOR\, WETZEL\, 
 MARION\, PRESTON\, BARBOUR\, PRESTON\, NICHOLAS\, GREENBRIER\, PEN
 DLETON\, BRAXTON\, GRANT\, RANDOLPH COUNTIES
URL:https://www.joerpyleauctions.com/auctions/detail/bw152686
SEQUENCE:1
END:VEVENT
END:VCALENDAR