BEGIN:VCALENDAR
VERSION:2.0
PRODID:-//ExpressionEngine Easy iCalendar plugin//NONSGML v2.0.1//EN
X-WR-TIMEZONE:America/New_York
X-WR-CALNAME:Upcoming Auctions
BEGIN:VEVENT
UID:154409
DTSTAMP:20251231T120000
DTSTART:20251231T120000
DTEND:20260204T180000
SUMMARY:Genoa\, WV – Farm Tractor\, Chevy Silverado\, Nissan Rogue\, 4
 -wheeler\, Lawn Mower\, Furniture\, Household Goods and More!
LOCATION:173 Glen Damron Lane\, Genoa\, WV 25517\, US
DESCRIPTION:Online Personal Property Auction Lots begin closing Wednesda
 y\, February 4 at 6pm Farm Tractor 2010 Chevy Silverado with 
 Black Leer Topper Suzuki King quad 500 Ford 8N Model 2008 Ni
 ssan Rogue 10’ Trailer Tools Furniture Vintage Lamps Home 
 Collectibles Oil Lamps Outdoor Furniture And Much More!
URL:https://www.joerpyleauctions.com/auctions/detail/bw154409
SEQUENCE:1
END:VEVENT
END:VCALENDAR