BEGIN:VCALENDAR
VERSION:2.0
PRODID:-//ExpressionEngine Easy iCalendar plugin//NONSGML v2.0.1//EN
X-WR-TIMEZONE:America/New_York
X-WR-CALNAME:Upcoming Auctions
BEGIN:VEVENT
UID:154551
DTSTAMP:20260105T120000
DTSTART:20260105T120000
DTEND:20260211T180000
SUMMARY:Pittsburgh\, PA – Heating and Roofing Company Liquidations:
  Tools\, Equipment\, parts and related supplies
LOCATION:924 Western Avenue\, Pittsburgh\, PA 15233\, US
DESCRIPTION:Online Only Auction Heating and Roofing Company Liquidation 
 Lots begin closing Wednesday\, February 11th at 6pm After ove
 r 50 years in the heating and roofing business\, Don Schnarre
 nberger is retiring and liquidating his remaining equipment 
 and tools. Items include...   24-40 Ft. Ladders Duct Work B
 reaks New Furnace Motors and Furnace Circuit Boards Scaffold
  Many additional Items
URL:https://www.joerpyleauctions.com/auctions/detail/bw154551
SEQUENCE:1
END:VEVENT
END:VCALENDAR