BEGIN:VCALENDAR
VERSION:2.0
PRODID:-//ExpressionEngine Easy iCalendar plugin//NONSGML v2.0.1//EN
X-WR-TIMEZONE:America/New_York
X-WR-CALNAME:Upcoming Auctions
BEGIN:VEVENT
UID:154647
DTSTAMP:20260106T180000
DTSTART:20260106T180000
DTEND:20260205T180000
SUMMARY:Washington\, PA -- Large Estate Auction Featuring Firearms\, A
 ntiques\, Fine Glassware\, Artwork\, & Household Contents (Near
 ly 500 Lots!)
LOCATION:3492 Rt. 40 \, Washington\, PA 15301\, US
DESCRIPTION:Online Personal Property Auction Lots begin closing Thursday
 \, February  5th at 6pm Sporting & Outdoors Ammunition & Acc
 essories Antiques & Collectibles Furniture & Household Glass
 ware & China Art & Décor Textiles & Sewing Kitchen & Small 
 Appliances Music & Toys Shop & Yard
URL:https://www.joerpyleauctions.com/auctions/detail/bw154647
SEQUENCE:1
END:VEVENT
END:VCALENDAR