BEGIN:VCALENDAR
VERSION:2.0
PRODID:-//ExpressionEngine Easy iCalendar plugin//NONSGML v2.0.1//EN
X-WR-TIMEZONE:America/New_York
X-WR-CALNAME:Upcoming Auctions
BEGIN:VEVENT
UID:154654
DTSTAMP:20260106T210000
DTSTART:20260106T210000
DTEND:20260203T180000
SUMMARY:SOLD $70\,400 - Duplex Near Saint Mary’s Hospital in Huntin
 gton
LOCATION:2805 1st Avenue \, Huntington\, WV 25702\, US
DESCRIPTION:Online Real Estate Auction    Bidding begins closing Tuesd
 ay\, February 3rd at 6:00PM    2805 1st Avenue  Huntington
 \, WV 25702    Duplex Near Saint Mary’s in Huntington 
URL:https://www.joerpyleauctions.com/auctions/detail/bw154654
SEQUENCE:1
END:VEVENT
END:VCALENDAR