BEGIN:VCALENDAR
VERSION:2.0
PRODID:-//ExpressionEngine Easy iCalendar plugin//NONSGML v2.0.1//EN
X-WR-TIMEZONE:America/New_York
X-WR-CALNAME:Upcoming Auctions
BEGIN:VEVENT
UID:154722
DTSTAMP:20260108T060000
DTSTART:20260108T060000
DTEND:20260212T180000
SUMMARY:SOLD $126\,500 - 132 Surveyed Acres in Boone County Selling t
 o the Highest Bidder
LOCATION:Camp Creek Rd. \, Julian\, WV 25529\, US
DESCRIPTION:Online Absolute Real Estate Auction    Bidding begins clos
 ing Thursday\, February 12th at 6:00PM    Camp Creek Rd.  
 Julian\, WV 25529    132.69Surveyed Acres  SELLING TO THE 
 HIGHEST BIDDER   
URL:https://www.joerpyleauctions.com/auctions/detail/bw154722
SEQUENCE:1
END:VEVENT
END:VCALENDAR