BEGIN:VCALENDAR
VERSION:2.0
PRODID:-//ExpressionEngine Easy iCalendar plugin//NONSGML v2.0.1//EN
X-WR-TIMEZONE:America/New_York
X-WR-CALNAME:Upcoming Auctions
BEGIN:VEVENT
UID:154783
DTSTAMP:20260108T190000
DTSTART:20260108T190000
DTEND:20260203T180000
SUMMARY:Hurricane\, WV – Glassware\, Antiques\, Clocks\, Lamps\, Diecas
 t Cars\, Model Planes\, Model Boats\, Artwork and More!
LOCATION:165 Bison Bluff Road\, Hurricane\, WV 25526\, US
DESCRIPTION:Online Personal Property Auction Lots begin closing Tuesday\,
  February 3rd at 6pm Glassware Antiques Clocks Lamps Diecast
  Cars Model Planes Artwork and More!
URL:https://www.joerpyleauctions.com/auctions/detail/bw154783
SEQUENCE:1
END:VEVENT
END:VCALENDAR