BEGIN:VCALENDAR
VERSION:2.0
PRODID:-//ExpressionEngine Easy iCalendar plugin//NONSGML v2.0.1//EN
X-WR-TIMEZONE:America/New_York
X-WR-CALNAME:Upcoming Auctions
BEGIN:VEVENT
UID:154784
DTSTAMP:20260108T200000
DTSTART:20260108T200000
DTEND:20260210T180000
SUMMARY:SOLD - 13 Parcels in the Huntington Area Selling to the High
 est Bidders
LOCATION:Cabell Co\, Huntington\, WV 25701\, US
DESCRIPTION:Online Absolute Real Estate Auction    Bidding begins clos
 ing Tuesday\, February 10th at 6:00PM    13 Lots Near Hunti
 ngton  SELLING TO THE HIGHEST BIDDERS 
URL:https://www.joerpyleauctions.com/auctions/detail/bw154784
SEQUENCE:1
END:VEVENT
END:VCALENDAR