BEGIN:VCALENDAR
VERSION:2.0
PRODID:-//ExpressionEngine Easy iCalendar plugin//NONSGML v2.0.1//EN
X-WR-TIMEZONE:America/New_York
X-WR-CALNAME:Upcoming Auctions
BEGIN:VEVENT
UID:154785
DTSTAMP:20260108T220000
DTSTART:20260108T220000
DTEND:20260216T180000
SUMMARY:2 Bedroom in Williamson Perfect for a Rental or Flip
LOCATION:1132 Midland Ave. \, Williamson\, WV 25661\, US
DESCRIPTION:Online Real Estate Auction    Bidding begins closing Monda
 y\, February 16th at 6:00PM    1132 Midland Ave.  Wiliamso
 n\, WV 25661 
URL:https://www.joerpyleauctions.com/auctions/detail/bw154785
SEQUENCE:1
END:VEVENT
END:VCALENDAR