BEGIN:VCALENDAR
VERSION:2.0
PRODID:-//ExpressionEngine Easy iCalendar plugin//NONSGML v2.0.1//EN
X-WR-TIMEZONE:America/New_York
X-WR-CALNAME:Upcoming Auctions
BEGIN:VEVENT
UID:154797
DTSTAMP:20260109T100000
DTSTART:20260109T100000
DTEND:20260212T180000
SUMMARY:St. Albans\, WV – 1965 Shelby Cobra (Replica)\, 2017 Yamaha 
 Dirt Bike\, and 2013 Smoky Mountain Trailer
LOCATION:600 Winfield Road\, Saint Albans\, WV 25177\, US
DESCRIPTION:Online Bankruptcy Auction Lots begin closing Thursday\, Febru
 ary 12th at 6pm 1965 Shelby Cobra Replica 2013 Smoky Mountai
 n Trailer 2017 Yamaha TT-R230 H Dirt Bike  
URL:https://www.joerpyleauctions.com/auctions/detail/bw154797
SEQUENCE:1
END:VEVENT
END:VCALENDAR