BEGIN:VCALENDAR
VERSION:2.0
PRODID:-//ExpressionEngine Easy iCalendar plugin//NONSGML v2.0.1//EN
X-WR-TIMEZONE:America/New_York
X-WR-CALNAME:Upcoming Auctions
BEGIN:VEVENT
UID:154815
DTSTAMP:20260109T120000
DTSTART:20260109T120000
DTEND:20260210T180000
SUMMARY:Two Homes in the Campbell’s Creek Area of Charleston
LOCATION:Campbell’s Creek\, Charleston\, WV 25302\, US
DESCRIPTION:ONLINE REAL ESTATE AUCTION    Bidding starts closing Tuesd
 ay\, February 10th 2026 at 6:00PM  Two Campbell’s Creek ar
 ea of Charleston properties - an excellent investment opport
 unity. These properties offer strong potential as income-pro
 ducing rentals or renovation projects for resale. Enjoy a gr
 eat location with a country feel while remaining convenientl
 y close to Charleston amenities. Endless possibilities for i
 nvestors or owner-occupants.  
URL:https://www.joerpyleauctions.com/auctions/detail/bw154815
SEQUENCE:1
END:VEVENT
END:VCALENDAR