BEGIN:VCALENDAR
VERSION:2.0
PRODID:-//ExpressionEngine Easy iCalendar plugin//NONSGML v2.0.1//EN
X-WR-TIMEZONE:America/New_York
X-WR-CALNAME:Upcoming Auctions
BEGIN:VEVENT
UID:154958
DTSTAMP:20260112T200000
DTSTART:20260112T200000
DTEND:20260211T180000
SUMMARY:SOLD $129\,250 - 2-Story Condo with Basement in South Point
LOCATION:71 Private Drive #54 Unit D-2\, South Point\, OH 45680\, US
DESCRIPTION:ONLINE REAL ESTATE AUCTION   Bidding starts closing Wednesd
 ay\, February 11th at 6:00 PM   71 Private Drive #54 Unit D-
 2 South Point OH 45680   2 Story Condominium with Finished 
 Basement
URL:https://www.joerpyleauctions.com/auctions/detail/bw154958
SEQUENCE:1
END:VEVENT
END:VCALENDAR