BEGIN:VCALENDAR
VERSION:2.0
PRODID:-//ExpressionEngine Easy iCalendar plugin//NONSGML v2.0.1//EN
X-WR-TIMEZONE:America/New_York
X-WR-CALNAME:Upcoming Auctions
BEGIN:VEVENT
UID:154960
DTSTAMP:20260112T210000
DTSTART:20260112T210000
DTEND:20260216T180000
SUMMARY:SOLD - 2 Bedroom on a Spacious Lot in Charleston
LOCATION:1900 Big Bottom Rd.\, Charleston\, WV 25311\, US
DESCRIPTION:Online Real Estate Auction   Bidding begins closing Monday\,
  February 16th at 6:00PM   1900 Big Bottom Rd. Charleston\, 
 WV  
URL:https://www.joerpyleauctions.com/auctions/detail/bw154960
SEQUENCE:1
END:VEVENT
END:VCALENDAR