BEGIN:VCALENDAR
VERSION:2.0
PRODID:-//ExpressionEngine Easy iCalendar plugin//NONSGML v2.0.1//EN
X-WR-TIMEZONE:America/New_York
X-WR-CALNAME:Upcoming Auctions
BEGIN:VEVENT
UID:154962
DTSTAMP:20260113T070000
DTSTART:20260113T070000
DTEND:20260217T180000
SUMMARY:SOLD - 2 Bedroom in Parkersburg Selling to the Highest Bidde
 r
LOCATION:1004 Hawthorne St\, Parkersburg\, WV 26101\, US
DESCRIPTION:ABSOLUTE ONLINE REAL ESTATE AUCTION   Bidding starts closin
 g on Tuesday\, February 17th at 6:00PM   1004 Hawthorne St P
 arkersburg WV 26101   SELLS TO THE HIGHEST BIDDER  
URL:https://www.joerpyleauctions.com/auctions/detail/bw154962
SEQUENCE:1
END:VEVENT
END:VCALENDAR