BEGIN:VCALENDAR
VERSION:2.0
PRODID:-//ExpressionEngine Easy iCalendar plugin//NONSGML v2.0.1//EN
X-WR-TIMEZONE:America/New_York
X-WR-CALNAME:Upcoming Auctions
BEGIN:VEVENT
UID:155045
DTSTAMP:20260113T190000
DTSTART:20260113T190000
DTEND:20260212T180000
SUMMARY:4 Parcels in Kanawha County Selling to the Highest Bidders
LOCATION:Kanawha Co \, Charleston\, WV 25301\, US
DESCRIPTION:Online Absolute Real Estate Auction    Bidding begins clos
 ing Thursday\, February 12th at 6:00PM    4 Parcels in Kana
 wha County  SELLING TO THE HIGHEST BIDDERS 
URL:https://www.joerpyleauctions.com/auctions/detail/bw155045
SEQUENCE:1
END:VEVENT
END:VCALENDAR