BEGIN:VCALENDAR
VERSION:2.0
PRODID:-//ExpressionEngine Easy iCalendar plugin//NONSGML v2.0.1//EN
X-WR-TIMEZONE:America/New_York
X-WR-CALNAME:Upcoming Auctions
BEGIN:VEVENT
UID:155048
DTSTAMP:20260113T120000
DTSTART:20260113T120000
DTEND:20260217T180000
SUMMARY:SOLD $627\,000 - Income Producing Multi-Unit Property on Near
 ly 80 Acres in Fairmont
LOCATION:56 Emerald Farm Drive\, Fairmont\, WV 26554\, US
DESCRIPTION:ONLINE REAL ESTATE AUCTION   Auction Begins to Close Tuesda
 y\, February 17th at 6:00PM Preview/Inspection – By Appoint
 ment   56 Emerald Farm Drive\, Fairmont\, WV   Income Produc
 ing Multi-Unit Property on Nearly 80 Acres
URL:https://www.joerpyleauctions.com/auctions/detail/bw155048
SEQUENCE:1
END:VEVENT
END:VCALENDAR