BEGIN:VCALENDAR
VERSION:2.0
PRODID:-//ExpressionEngine Easy iCalendar plugin//NONSGML v2.0.1//EN
X-WR-TIMEZONE:America/New_York
X-WR-CALNAME:Upcoming Auctions
BEGIN:VEVENT
UID:155052
DTSTAMP:20260113T213000
DTSTART:20260113T213000
DTEND:20260223T180000
SUMMARY:SOLD $10\,725 - Cleared Flat Lot in Chesapeake
LOCATION:13547 MacCorkle Ave SE\, Chesapeake\, WV 25315\, US
DESCRIPTION:ONLINE REAL ESTATE AUCTION   Bidding starts closing Monday\,
  February 23rd at 6:00PM   13547 MacCorkle Ave SE Chesapeak
 e WV 25315   Cleared and Flat Residential Lot
URL:https://www.joerpyleauctions.com/auctions/detail/bw155052
SEQUENCE:1
END:VEVENT
END:VCALENDAR