BEGIN:VCALENDAR
VERSION:2.0
PRODID:-//ExpressionEngine Easy iCalendar plugin//NONSGML v2.0.1//EN
X-WR-TIMEZONE:America/New_York
X-WR-CALNAME:Upcoming Auctions
BEGIN:VEVENT
UID:155086
DTSTAMP:20260114T070000
DTSTART:20260114T070000
DTEND:20260224T180000
SUMMARY:SOLD $14\,575 - 15 Acres Minutes from I-77 near Charleston
LOCATION:Youngs Hollow Road \, Charleston\, WV 25320\, US
DESCRIPTION:ONLINE REAL ESTATE AUCTION   Bidding starts closing Tuesday
 \, February 24th at 6:00PM   Youngs Hollow Road Charleston W
 V 25320   15+/-Acre Land Parcel
URL:https://www.joerpyleauctions.com/auctions/detail/bw155086
SEQUENCE:1
END:VEVENT
END:VCALENDAR