BEGIN:VCALENDAR
VERSION:2.0
PRODID:-//ExpressionEngine Easy iCalendar plugin//NONSGML v2.0.1//EN
X-WR-TIMEZONE:America/Indiana/Indianapolis
X-WR-CALNAME:Upcoming Auctions
BEGIN:VEVENT
UID:155163
DTSTAMP:20260114T120000
DTSTART:20260114T120000
DTEND:20260203T180000
SUMMARY:Clarksburg\, WV – Office Liquidation Auction
LOCATION:125 N. 6th Street\, Clarksburg\, WV 26301\, US
DESCRIPTION:CLARKSBURG ONLINE PERSONAL PROPERTY AUCTION BIDDING BEGINS C
 LOSING: Tuesday\, February 3rd at 6PM Office Liquidation Auct
 ion Desks and L-shaped workstations with cabinetry Filing ca
 binets\, cabinets\, and storage units Chairs and shelving (inc
 luding glass shelving) Printers\, scanners\, monitors\, and ele
 ctronics Ink\, toner cartridges\, and supplies Rugs\, partition
 s\, wall décor\, and mats Breakroom items and exercise equipm
 ent Holiday decorations and miscellaneous contents
URL:https://www.joerpyleauctions.com/auctions/detail/bw155163
SEQUENCE:1
END:VEVENT
END:VCALENDAR