BEGIN:VCALENDAR
VERSION:2.0
PRODID:-//ExpressionEngine Easy iCalendar plugin//NONSGML v2.0.1//EN
X-WR-TIMEZONE:America/New_York
X-WR-CALNAME:Upcoming Auctions
BEGIN:VEVENT
UID:155168
DTSTAMP:20260224T160000
DTSTART:20260224T160000
DTEND:20260224T170000
SUMMARY:SOLD $110\,000 - Spacious 2 Story Building on a Large Lot in 
 Westernport Selling to the Highest Bidder
LOCATION:155 Washington Street\, Westernport\, MD 21562\, US
DESCRIPTION:Absolute Real Estate Auction   Tuesday\, February 24th at 4:
 00PM Registration & Inspection begin at 3:00PM   155 Washin
 gton Street Westernport\, MD   14\,431 +/- Sqft – Two Story
  Building Situated on 0.69 +/- Acres SELLS TO THE HIGHEST BI
 DDER ***Great Repurpose Potential**** ***Just off MD-135\, Fo
 ur Way Stop Light***
URL:https://www.joerpyleauctions.com/auctions/detail/bw155168
SEQUENCE:1
END:VEVENT
END:VCALENDAR