BEGIN:VCALENDAR
VERSION:2.0
PRODID:-//ExpressionEngine Easy iCalendar plugin//NONSGML v2.0.1//EN
X-WR-TIMEZONE:America/New_York
X-WR-CALNAME:Upcoming Auctions
BEGIN:VEVENT
UID:155173
DTSTAMP:20260115T060000
DTSTART:20260115T060000
DTEND:20260225T180000
SUMMARY:SOLD $26\,675 - 2 Bedroom in Charleston
LOCATION:1622 Red Oak St.\, Charleston\, WV 25387\, US
DESCRIPTION:Online Real Estate Auction   Bidding begins closing Wednesd
 ay\, February 25th at 6:00PM   1622 Red Oak St. Charleston\, 
 WV   Home located in Charleston\, West Virginia\, offering co
 nvenient access to I-64 and nearby amenities.
URL:https://www.joerpyleauctions.com/auctions/detail/bw155173
SEQUENCE:1
END:VEVENT
END:VCALENDAR