BEGIN:VCALENDAR
VERSION:2.0
PRODID:-//ExpressionEngine Easy iCalendar plugin//NONSGML v2.0.1//EN
X-WR-TIMEZONE:America/New_York
X-WR-CALNAME:Upcoming Auctions
BEGIN:VEVENT
UID:155191
DTSTAMP:20260115T110000
DTSTART:20260115T110000
DTEND:20260204T180000
SUMMARY:Clarksburg\, WV – Large Assortment of Household Goods & gen
 eral Merchandise
LOCATION:339 Wilsonburg Road\, Clarksburg\, WV 26301\, US
DESCRIPTION:Online Personal Property Auction Bidding begins closing: Wed
 nesday\, February 4th at 6pm Large Assortment of Household Go
 ods & General Merchandise   Clothing Accessories Electronic
 s Tools & Hardware Lawn & Garden Fitness & Medical Games & H
 obbies Amazon Returns Home Décor – Wall Art\, Shelving\, Cu
 rtains\, Rugs\, Lamps\, Accents Kitchen Items – Cookware\, Bak
 eware\, Gadgets\, Dishes\, Small Appliances Children’s Items 
 – Toys\, Books\, Costumes\, Outdoor and Pool Toys
URL:https://www.joerpyleauctions.com/auctions/detail/bw155191
SEQUENCE:1
END:VEVENT
END:VCALENDAR