BEGIN:VCALENDAR
VERSION:2.0
PRODID:-//ExpressionEngine Easy iCalendar plugin//NONSGML v2.0.1//EN
X-WR-TIMEZONE:America/New_York
X-WR-CALNAME:Upcoming Auctions
BEGIN:VEVENT
UID:155235
DTSTAMP:20260115T190000
DTSTART:20260115T190000
DTEND:20260218T180000
SUMMARY:SOLD - 3 Investment Properties in 3 Counties Selling to the 
 Highest Bidders
LOCATION:Raleigh\, Wetzel\, Wayne Counties\, Kenova\, WV 25530\, US
DESCRIPTION:Online Absolute Real Estate Auction Bidding begins closing W
 ednesday\, February 18th at 6:00PM   3 Investment Properties
  in 3 Counties SELLING TO THE HIGHEST BIDDERS
URL:https://www.joerpyleauctions.com/auctions/detail/bw155235
SEQUENCE:1
END:VEVENT
END:VCALENDAR