BEGIN:VCALENDAR
VERSION:2.0
PRODID:-//ExpressionEngine Easy iCalendar plugin//NONSGML v2.0.1//EN
X-WR-TIMEZONE:America/New_York
X-WR-CALNAME:Upcoming Auctions
BEGIN:VEVENT
UID:155237
DTSTAMP:20260115T210000
DTSTART:20260115T210000
DTEND:20260225T180000
SUMMARY:SOLD - Huntington 3 Bedroom Ideal for a Flip Selling to the 
 Highest Bidder
LOCATION:18 Valentia St.\, Huntington\, WV 25705\, US
DESCRIPTION:Absolute Online Real Estate Auction   Bidding begins closin
 g Wednesday\, February 25th at 6:00PM   18 Valentia St. Hunt
 ington\, WV 25705 SELLS TO THE HIGHEST BIDDER   This 3-bedro
 om\, 1-bathroom 820 +/- Sq. Ft. home on a large lot a great o
 pportunity for investors\, flippers\, or buyers looking for a 
 property with potential.
URL:https://www.joerpyleauctions.com/auctions/detail/bw155237
SEQUENCE:1
END:VEVENT
END:VCALENDAR