BEGIN:VCALENDAR
VERSION:2.0
PRODID:-//ExpressionEngine Easy iCalendar plugin//NONSGML v2.0.1//EN
X-WR-TIMEZONE:America/New_York
X-WR-CALNAME:Upcoming Auctions
BEGIN:VEVENT
UID:155242
DTSTAMP:20260116T080000
DTSTART:20260116T080000
DTEND:20260302T180000
SUMMARY:SOLD $44\,000 - 5 Surveyed Acres in Fayette County
LOCATION:Stanaford Rd\, Hilton Village\, WV 25831\, US
DESCRIPTION:Online Land Auction   Bidding begins closing Monday\, March 
 2nd at 6:00PM   Stanaford Rd Hilton Village\, WV   5 Survey
 ed Acres in Fayette County   Beautifully Situated Less than
  20 Minutes to New River Gorge National Park & Less than 25 
 Minutes to Summersville Lake – Making it a Prime in-betwee
 n Spot for Tourists!
URL:https://www.joerpyleauctions.com/auctions/detail/bw155242
SEQUENCE:1
END:VEVENT
END:VCALENDAR