BEGIN:VCALENDAR
VERSION:2.0
PRODID:-//ExpressionEngine Easy iCalendar plugin//NONSGML v2.0.1//EN
X-WR-TIMEZONE:America/New_York
X-WR-CALNAME:Upcoming Auctions
BEGIN:VEVENT
UID:155269
DTSTAMP:20260116T120000
DTSTART:20260116T120000
DTEND:20260302T180000
SUMMARY:SOLD $44\,000 - 3 Bedroom Project Home in a Convenient Charle
 ston Location
LOCATION:728 Hess Dr.\, Charleston\, WV 25302\, US
DESCRIPTION:Online Real Estate Auction   Bidding begins closing Monday\,
  March 2nd at 6:00PM   728 Hess Dr. Charleston\, WV 25302  
  3 Bedroom Ready for a Remodel
URL:https://www.joerpyleauctions.com/auctions/detail/bw155269
SEQUENCE:1
END:VEVENT
END:VCALENDAR