BEGIN:VCALENDAR
VERSION:2.0
PRODID:-//ExpressionEngine Easy iCalendar plugin//NONSGML v2.0.1//EN
X-WR-TIMEZONE:America/New_York
X-WR-CALNAME:Upcoming Auctions
BEGIN:VEVENT
UID:155490
DTSTAMP:20260119T190000
DTSTART:20260119T190000
DTEND:20260223T190000
SUMMARY:SOLD $12\,100 - Spacious Lot in the Blue Ridge Acres Subdivis
 ion of Harpers Ferry Selling to the Highest Bidder
LOCATION:Country Club Drive\, Harpers Ferry\, WV 25425\, US
DESCRIPTION:Online Absolute Real Estate Auction   Bidding begins closin
 g Monday\, February 23rd at 7:00PM   Country Club Drive Harp
 ers Ferry\, WV   0.42 +/- acre building lot located in the w
 ell-established Blue Ridge Acres Subdivision. Prime location
  with convenient access to Maryland via Route 340 or Virgini
 a via Route 9. The community offers river access and a commu
 nity pool. Call today for more information.   0.42 +/- Acre
 s Located in Blue Ridge Acres Subdivision SELLING TO THE HIG
 HEST BIDDER
URL:https://www.joerpyleauctions.com/auctions/detail/bw155490
SEQUENCE:1
END:VEVENT
END:VCALENDAR