BEGIN:VCALENDAR
VERSION:2.0
PRODID:-//ExpressionEngine Easy iCalendar plugin//NONSGML v2.0.1//EN
X-WR-TIMEZONE:America/New_York
X-WR-CALNAME:Upcoming Auctions
BEGIN:VEVENT
UID:155492
DTSTAMP:20260119T200000
DTSTART:20260119T200000
DTEND:20260223T180000
SUMMARY:5 Parcels in Jackson County Selling to the Highest Bidders
LOCATION:Jackson County\, Cottageville\, WV 29435\, US
DESCRIPTION:Online Absolute Real Estate Auction Bidding begins closing M
 onday\, February 23rd at 6:00PM   5 Parcels in Jackson Count
 y SELLING TO THE HIGHEST BIDDERS
URL:https://www.joerpyleauctions.com/auctions/detail/bw155492
SEQUENCE:1
END:VEVENT
END:VCALENDAR