BEGIN:VCALENDAR
VERSION:2.0
PRODID:-//ExpressionEngine Easy iCalendar plugin//NONSGML v2.0.1//EN
X-WR-TIMEZONE:America/New_York
X-WR-CALNAME:Upcoming Auctions
BEGIN:VEVENT
UID:155505
DTSTAMP:20260120T060000
DTSTART:20260120T060000
DTEND:20260224T190000
SUMMARY:SOLD - 22 Parcels in Harrison County Selling to the Highest 
 Bidders
LOCATION:Harrison County \, Clarksburg\, WV 26301\, US
DESCRIPTION:Online Absolute Real Estate Auction Bidding begins closing T
 uesday\, February 24th 7:00PM   22 Parcels in Harrison Count
 y SELLING TO THE HIGHEST BIDDERS
URL:https://www.joerpyleauctions.com/auctions/detail/bw155505
SEQUENCE:1
END:VEVENT
END:VCALENDAR