BEGIN:VCALENDAR
VERSION:2.0
PRODID:-//ExpressionEngine Easy iCalendar plugin//NONSGML v2.0.1//EN
X-WR-TIMEZONE:America/New_York
X-WR-CALNAME:Upcoming Auctions
BEGIN:VEVENT
UID:155599
DTSTAMP:20260120T190000
DTSTART:20260120T190000
DTEND:20260224T180000
SUMMARY:SOLD - 4 Allegheny County\, MD Properties Selling to the High
 est Bidders
LOCATION:Allegheny County\, Cumberland\, MD 21501\, US
DESCRIPTION:Absolute Real Estate Auction   Bidding begins closing Tuesd
 ay\, February 24th at 6:00PM     4 Allegheny County\, MD Pro
 perties SELLING TO THE HIGHEST BIDDERS  
URL:https://www.joerpyleauctions.com/auctions/detail/bw155599
SEQUENCE:1
END:VEVENT
END:VCALENDAR