BEGIN:VCALENDAR
VERSION:2.0
PRODID:-//ExpressionEngine Easy iCalendar plugin//NONSGML v2.0.1//EN
X-WR-TIMEZONE:America/New_York
X-WR-CALNAME:Upcoming Auctions
BEGIN:VEVENT
UID:155655
DTSTAMP:20260213T120000
DTSTART:20260213T120000
DTEND:20260311T180000
SUMMARY:Fairmont\, WV – Moving Auction: Household\, Garage\, Tools\, M
 odel Collection and More!
LOCATION:182 Scratches Run Road\, Fairmont\, WV 26554\, US
DESCRIPTION:Online Moving Auction Lots begin closing Wednesday\, March 11
 th at 6pm Preview: Monday\, March 9th 3pm to 5pm Pickup: Frid
 ay\, March 13th 10am to 5pm 182 Scratches Run Rd\, Fairmont\, 
 WV 26554 This moving auction offers a wide variety of person
 al property\, including a large collection of model cars\, mod
 el kits\, and hobby items\, along with household furnishings\, 
 decorations\, kitchenware\, tools\, hardware assortments\, garag
 e items\, lawn and garden equipment\, outdoor pieces\, and gene
 ral contents from the home\, basement\, garage\, and outbuildin
 gs.
URL:https://www.joerpyleauctions.com/auctions/detail/bw155655
SEQUENCE:1
END:VEVENT
END:VCALENDAR