BEGIN:VCALENDAR
VERSION:2.0
PRODID:-//ExpressionEngine Easy iCalendar plugin//NONSGML v2.0.1//EN
X-WR-TIMEZONE:America/New_York
X-WR-CALNAME:Upcoming Auctions
BEGIN:VEVENT
UID:155699
DTSTAMP:20260121T180000
DTSTART:20260121T180000
DTEND:20260223T180000
SUMMARY:SOLD - Investment Properties in Wheeling & Richwood Selling 
 to the Highest Bidders
LOCATION:Ohio and Nicholas Counties\, Wheeling\, WV 26003\, US
DESCRIPTION:Online Absolute Real Estate Auction Bidding begins closing M
 onday\, February 23rd at 6:00PM   2 Investment Properties SE
 LLING TO THE HIGHEST BIDDERS
URL:https://www.joerpyleauctions.com/auctions/detail/bw155699
SEQUENCE:1
END:VEVENT
END:VCALENDAR