BEGIN:VCALENDAR
VERSION:2.0
PRODID:-//ExpressionEngine Easy iCalendar plugin//NONSGML v2.0.1//EN
X-WR-TIMEZONE:America/New_York
X-WR-CALNAME:Upcoming Auctions
BEGIN:VEVENT
UID:156974
DTSTAMP:20260214T080000
DTSTART:20260214T080000
DTEND:20260407T180000
SUMMARY:SOLD $73\,700 - 3 Bedroom Ashland Home
LOCATION:8029 Ray Drive\, Ashland\, KY 41102\, US
DESCRIPTION:Online Real Estate Auction   Bidding begins closing Tuesday
 \, April 7th at 6:00PM   8029 Ray Drive Ashland\, KY 41102  
  Single-family home located in Ashland\, KY. This 3-bedroom\, 
 1-bathroom property offers approximately 1\,000± sq ft of li
 ving space and is situated in an established residential nei
 ghborhood. Built in 1975\, the home features a functional lay
 out suitable for owner occupancy. Additional features includ
 e off-street parking and forced-air heating\, making this a s
 olid residential property.
URL:https://www.joerpyleauctions.com/auctions/detail/bw156974
SEQUENCE:1
END:VEVENT
END:VCALENDAR