BEGIN:VCALENDAR
VERSION:2.0
PRODID:-//ExpressionEngine Easy iCalendar plugin//NONSGML v2.0.0//EN
X-WR-TIMEZONE:America/New_York
X-WR-CALNAME:Upcoming Auctions
BEGIN:VEVENT
UID:157388
DTSTAMP:20260221T120000
DTSTART:20260221T120000
DTEND:20260402T180000
SUMMARY:SOLD $154\,000 - Spacious 3 Bedroom in Westover
LOCATION:307 Dunkard Ave\, Westover\, WV 26501\, US
DESCRIPTION:Online Real Estate Auction   Bidding begin closing Thursday
 \, April 2nd at 6:00PM Preview: Wednesday\, April1st 4p-6p   
 307 Dunkard Ave Westover\, WV   3 Bedroom Home on 0.33 +/- A
 cres
URL:https://www.joerpyleauctions.com/auctions/detail/bw157388
SEQUENCE:1
END:VEVENT
END:VCALENDAR