BEGIN:VCALENDAR
VERSION:2.0
PRODID:-//ExpressionEngine Easy iCalendar plugin//NONSGML v2.0.1//EN
X-WR-TIMEZONE:America/New_York
X-WR-CALNAME:Upcoming Auctions
BEGIN:VEVENT
UID:157482
DTSTAMP:20260223T210000
DTSTART:20260223T210000
DTEND:20260402T180000
SUMMARY:SOLD $198\,000 - Income Generating 4-Unit Apartment Building 
 in Huntington
LOCATION:1026 12th Ave.\, Huntington\, WV 25701\, US
DESCRIPTION:Online Real Estate Auction   Bidding begins closing Thursda
 y\, April 2nd at 6:00PM   1026 12th Ave. Huntington\, WV 2570
 1   Income-Producing 4-Unit Apartment Building   Multi-uni
 t investment opportunity in one of Huntington’s most desir
 able rental corridors. Positioned only two blocks from Ritte
 r Park and situated in a historically low vacancy area\, this
  property offers stability and long-term upside.
URL:https://www.joerpyleauctions.com/auctions/detail/bw157482
SEQUENCE:1
END:VEVENT
END:VCALENDAR