BEGIN:VCALENDAR
VERSION:2.0
PRODID:-//ExpressionEngine Easy iCalendar plugin//NONSGML v2.0.1//EN
X-WR-TIMEZONE:America/New_York
X-WR-CALNAME:Upcoming Auctions
BEGIN:VEVENT
UID:157549
DTSTAMP:20260224T180000
DTSTART:20260224T180000
DTEND:20260316T180000
SUMMARY:Clarksburg\, WV – Retail Liquidation Auction
LOCATION:339 Wilsonburg Road\, Clarksburg\, WV 26301\, US
DESCRIPTION:Online Liquidation Auction Lots begin closing Monday\, March 
 16th at 6pm Amazon Returns Household Goods Tools Automotive 
 Items General Merchandise  
URL:https://www.joerpyleauctions.com/auctions/detail/bw157549
SEQUENCE:1
END:VEVENT
END:VCALENDAR