BEGIN:VCALENDAR
VERSION:2.0
PRODID:-//ExpressionEngine Easy iCalendar plugin//NONSGML v2.0.1//EN
X-WR-TIMEZONE:America/New_York
X-WR-CALNAME:Upcoming Auctions
BEGIN:VEVENT
UID:157672
DTSTAMP:20260226T210000
DTSTART:20260226T210000
DTEND:20260331T180000
SUMMARY:SOLD $51\,895 - 4 Bedroom on 2 Acres in Roane County
LOCATION:1845 Hollywood Rd.\, Newton\, WV 25266\, US
DESCRIPTION:Online Bankruptcy Real Estate Auction   Bidding begins clos
 ing Tuesday\, March 31st at 6:00PM   1845 Hollywood Rd. Newt
 on\, WV
URL:https://www.joerpyleauctions.com/auctions/detail/bw157672
SEQUENCE:1
END:VEVENT
END:VCALENDAR