BEGIN:VCALENDAR
VERSION:2.0
PRODID:-//ExpressionEngine Easy iCalendar plugin//NONSGML v2.0.1//EN
X-WR-TIMEZONE:America/New_York
X-WR-CALNAME:Upcoming Auctions
BEGIN:VEVENT
UID:157682
DTSTAMP:20260227T090000
DTSTART:20260227T090000
DTEND:20260318T180000
SUMMARY:Shinnston\, WV -- 500+ LOTS\, Antiques\, Glassware\, Antique Fur
 niture\, Collectibles\, Vintage Items
LOCATION:5508 Benedum Drive\, Shinnston\, WV 26431\, US
DESCRIPTION:Online Only Auction Antiques\, Glassware\, Collectibles and Mo
 re! Lots begin closing Wednesday\, March 18th at 6pm HUGE SAL
 E - VERY NICE SELECTION OF ITEMS Glassware\, China\, Warwick V
 ases Antique Furniture\, Cabinets\, Tables Depression Glasswar
 e\, Miss America\, Spode Nippon\, Homer Laughlin\, Red Willow\, L
 imoge\, Lefton China Mid Century Modern Items\, Vintage Ladies
 ' Purses Leaded Stained Glass Pieces\, Vintage Christmas Mant
 le Clocks\, Oriental Pieces Vintage Children's Toys\, Dolls\, M
 ickey Mouse  
URL:https://www.joerpyleauctions.com/auctions/detail/bw157682
SEQUENCE:1
END:VEVENT
END:VCALENDAR