BEGIN:VCALENDAR
VERSION:2.0
PRODID:-//ExpressionEngine Easy iCalendar plugin//NONSGML v2.0.1//EN
X-WR-TIMEZONE:America/New_York
X-WR-CALNAME:Upcoming Auctions
BEGIN:VEVENT
UID:157837
DTSTAMP:20260302T120000
DTSTART:20260302T120000
DTEND:20260324T180000
SUMMARY:Fayette County\, PA: Woodshop Equipment\, Commercial Scrubbers
 \, Tables\, Chairs\, Loads of Shelving\, Metal Cabinets\, and MOR
 E!
LOCATION:6353 National Pike E\, Grindstone\, PA 15442\, US
DESCRIPTION:Online Personal Property Auction Lots begin closing Tuesday\,
  March 24th at 6pm Commercial Floor Scrubbers\, Woodshop Tool
 s & Equipment Huge Selection of Shelving Office Supplies\, Pa
 per\, Fans\, Metal Filing Cabinets Ping Pong Table\, Cafeteria 
 Tables Student Desks\, Chairs\, Quality Tables Wood Chairs\, De
 sk Chairs\, Waiting Room Chairs\, Student Chairs Board Games\, 
 Totes\, Wood Cabinets\, Appliances Complete Library Bookshelf 
 Unit
URL:https://www.joerpyleauctions.com/auctions/detail/bw157837
SEQUENCE:1
END:VEVENT
END:VCALENDAR