BEGIN:VCALENDAR
VERSION:2.0
PRODID:-//ExpressionEngine Easy iCalendar plugin//NONSGML v2.0.1//EN
X-WR-TIMEZONE:America/New_York
X-WR-CALNAME:Upcoming Auctions
BEGIN:VEVENT
UID:158015
DTSTAMP:20260304T190000
DTSTART:20260304T190000
DTEND:20260407T180000
SUMMARY:SOLD $118\,910 - Well-Maintained 3 Bedroom in Kanawha City
LOCATION:5410 Venable Ave. SE \, Charleston\, WV 25304\, US
DESCRIPTION:Online Real Estate Auction    Bidding begins closing Tuesd
 ay\, April 7th at 6:00PM    5410 Venable Ave. SE  Charlest
 on\, WV 25304      Well-maintained 3-bedroom home located 
 in a desirable neighborhood 
URL:https://www.joerpyleauctions.com/auctions/detail/bw158015
SEQUENCE:1
END:VEVENT
END:VCALENDAR